Workbook

Sheet TIN
A1: TIN - 2011 MPB Update
A2: Area (ha) of MPB Attack Severity by Age Class and Density within Pine Stands (Pine Species >= 30% density - The Pine Mask)
A3: TSA Area | B3: 1315601.6
A4: Pine Mask Unharvested Area | B4: =SUM(data!D2:D200) -> 303260.05
A6: MPB Attack as a percentage of Pine affected within the VRI Stand
A8: MPB Attack Severity
C9: Light (<11%) | E9: Moderate (11-30%) | G9: Severe (31-50%) | I9: Very Severe (>50%) | K9: All Severity | M9: No Attack
A10: Age Class | B10: Pine Density | C10: Area (ha) | D10: Percent of all Pine (Pine Mask) | E10: Area (ha) | F10: Percent of all Pine (Pine Mask) | G10: Area (ha) | H10: Percent of all Pine (Pine Mask) | I10: Area (ha) | J10: Percent of all Pine (Pine Mask) | K10: Total Area of Attack (ha) | L10: Percent of all Pine (Pine Mask) | M10: Area (ha) | N10: Percent of all Pine (Pine Mask)
A11: 21-40 years | B11: 30-70% | C11: {=SUM(IF(data!A2:A200="21-40 years",IF(data!B2:B200="30-70%",IF(data!C2:C200="Light (<11%)",data!D2:D200,0),0),0))} -> 1704.5196 | D11: =C11/($K$20+$M$20) -> 0.0057748124 | E11: {=SUM(IF(data!A2:A200="21-40 years",IF(data!B2:B200="30-70%",IF(data!C2:C200="Moderate (11-30%)",data!D2:D200,0),0),0))} -> 1271.3311 | F11: =E11/($K$20+$M$20) -> 0.0043071952 | G11: {=SUM(IF(data!A2:A200="21-40 years",IF(data!B2:B200="30-70%",IF(data!C2:C200="Severe (31-50%)",data!D2:D200,0),0),0))} -> 421.34926 | H11: =G11/($K$20+$M$20) -> 0.0014275066 | I11: {=SUM(IF(data!A2:A200="21-40 years",IF(data!B2:B200="30-70%",IF(data!C2:C200="Very Severe (>50%)",data!D2:D200,0),0),0))} -> 343.77969 | J11: =I11/($K$20+$M$20) -> 0.0011647054 | K11: =SUM(C11,E11,G11,I11) -> 3740.9797 | L11: =K11/($K$20+$M$20) -> 0.01267422 | M11: {=SUM(IF(data!A2:A200="21-40 years",IF(data!B2:B200="30-70%",IF(data!C2:C200="No Attack",data!D2:D200,0),0),0))} -> 15751.34 | N11: =M11/($K$20+$M$20) -> 0.053364615
B12: >70% | C12: {=SUM(IF(data!A2:A200="21-40 years",IF(data!B2:B200=">70%",IF(data!C2:C200="Light (<11%)",data!D2:D200,0),0),0))} -> 2250.0642 | D12: =C12/($K$20+$M$20) -> 0.0076230855 | E12: {=SUM(IF(data!A2:A200="21-40 years",IF(data!B2:B200=">70%",IF(data!C2:C200="Moderate (11-30%)",data!D2:D200,0),0),0))} -> 828.07568 | F12: =E12/($K$20+$M$20) -> 0.0028054718 | G12: {=SUM(IF(data!A2:A200="21-40 years",IF(data!B2:B200=">70%",IF(data!C2:C200="Severe (31-50%)",data!D2:D200,0),0),0))} -> 430.43075 | H12: =G12/($K$20+$M$20) -> 0.0014582741 | I12: {=SUM(IF(data!A2:A200="21-40 years",IF(data!B2:B200=">70%",IF(data!C2:C200="Very Severe (>50%)",data!D2:D200,0),0),0))} -> 435.41446 | J12: =I12/($K$20+$M$20) -> 0.0014751586 | K12: =SUM(C12,E12,G12,I12) -> 3943.9851 | L12: =K12/($K$20+$M$20) -> 0.01336199 | M12: {=SUM(IF(data!A2:A200="21-40 years",IF(data!B2:B200=">70%",IF(data!C2:C200="No Attack",data!D2:D200,0),0),0))} -> 17860.134 | N12: =M12/($K$20+$M$20) -> 0.060509087
A14: 41-60 years | B14: 30-70% | C14: {=SUM(IF(data!A2:A200="41-60 years",IF(data!B2:B200="30-70%",IF(data!C2:C200="Light (<11%)",data!D2:D200,0),0),0))} -> 190.53141 | D14: =C14/($K$20+$M$20) -> 0.00064550925 | E14: {=SUM(IF(data!A2:A200="41-60 years",IF(data!B2:B200="30-70%",IF(data!C2:C200="Moderate (11-30%)",data!D2:D200,0),0),0))} -> 288.02403 | F14: =E14/($K$20+$M$20) -> 0.00097580853 | G14: {=SUM(IF(data!A2:A200="41-60 years",IF(data!B2:B200="30-70%",IF(data!C2:C200="Severe (31-50%)",data!D2:D200,0),0),0))} -> 304.38576 | H14: =G14/($K$20+$M$20) -> 0.0010312411 | I14: {=SUM(IF(data!A2:A200="41-60 years",IF(data!B2:B200="30-70%",IF(data!C2:C200="Very Severe (>50%)",data!D2:D200,0),0),0))} -> 365.24705 | J14: =I14/($K$20+$M$20) -> 0.0012374356 | K14: =SUM(C14,E14,G14,I14) -> 1148.1883 | L14: =K14/($K$20+$M$20) -> 0.0038899945 | M14: {=SUM(IF(data!A2:A200="41-60 years",IF(data!B2:B200="30-70%",IF(data!C2:C200="No Attack",data!D2:D200,0),0),0))} -> 4436.2472 | N14: =M14/($K$20+$M$20) -> 0.015029745
B15: >70% | C15: {=SUM(IF(data!A2:A200="41-60 years",IF(data!B2:B200=">70%",IF(data!C2:C200="Light (<11%)",data!D2:D200,0),0),0))} -> 589.10823 | D15: =C15/($K$20+$M$20) -> 0.0019958641 | E15: {=SUM(IF(data!A2:A200="41-60 years",IF(data!B2:B200=">70%",IF(data!C2:C200="Moderate (11-30%)",data!D2:D200,0),0),0))} -> 534.51363 | F15: =E15/($K$20+$M$20) -> 0.0018109008 | G15: {=SUM(IF(data!A2:A200="41-60 years",IF(data!B2:B200=">70%",IF(data!C2:C200="Severe (31-50%)",data!D2:D200,0),0),0))} -> 363.67653 | H15: =G15/($K$20+$M$20) -> 0.0012321147 | I15: {=SUM(IF(data!A2:A200="41-60 years",IF(data!B2:B200=">70%",IF(data!C2:C200="Very Severe (>50%)",data!D2:D200,0),0),0))} -> 403.89789 | J15: =I15/($K$20+$M$20) -> 0.0013683823 | K15: =SUM(C15,E15,G15,I15) -> 1891.1963 | L15: =K15/($K$20+$M$20) -> 0.006407262 | M15: {=SUM(IF(data!A2:A200="41-60 years",IF(data!B2:B200=">70%",IF(data!C2:C200="No Attack",data!D2:D200,0),0),0))} -> 2594.3725 | N15: =M15/($K$20+$M$20) -> 0.0087895819
A17: >60 years | B17: 30-70% | C17: {=SUM(IF(data!A2:A200=">60 years",IF(data!B2:B200="30-70%",IF(data!C2:C200="Light (<11%)",data!D2:D200,0),0),0))} -> 13464.276 | D17: =C17/($K$20+$M$20) -> 0.045616176 | E17: {=SUM(IF(data!A2:A200=">60 years",IF(data!B2:B200="30-70%",IF(data!C2:C200="Moderate (11-30%)",data!D2:D200,0),0),0))} -> 13693.459 | F17: =E17/($K$20+$M$20) -> 0.046392637 | G17: {=SUM(IF(data!A2:A200=">60 years",IF(data!B2:B200="30-70%",IF(data!C2:C200="Severe (31-50%)",data!D2:D200,0),0),0))} -> 10892.382 | H17: =G17/($K$20+$M$20) -> 0.03690275 | I17: {=SUM(IF(data!A2:A200=">60 years",IF(data!B2:B200="30-70%",IF(data!C2:C200="Very Severe (>50%)",data!D2:D200,0),0),0))} -> 21083.244 | J17: =I17/($K$20+$M$20) -> 0.071428793 | K17: =SUM(C17,E17,G17,I17) -> 59133.361 | L17: =K17/($K$20+$M$20) -> 0.20034036 | M17: {=SUM(IF(data!A2:A200=">60 years",IF(data!B2:B200="30-70%",IF(data!C2:C200="No Attack",data!D2:D200,0),0),0))} -> 59793.313 | N17: =M17/($K$20+$M$20) -> 0.20257623
B18: >70% | C18: {=SUM(IF(data!A2:A200=">60 years",IF(data!B2:B200=">70%",IF(data!C2:C200="Light (<11%)",data!D2:D200,0),0),0))} -> 14526.694 | D18: =C18/($K$20+$M$20) -> 0.049215586 | E18: {=SUM(IF(data!A2:A200=">60 years",IF(data!B2:B200=">70%",IF(data!C2:C200="Moderate (11-30%)",data!D2:D200,0),0),0))} -> 17276.325 | F18: =E18/($K$20+$M$20) -> 0.058531177 | G18: {=SUM(IF(data!A2:A200=">60 years",IF(data!B2:B200=">70%",IF(data!C2:C200="Severe (31-50%)",data!D2:D200,0),0),0))} -> 13829.676 | H18: =G18/($K$20+$M$20) -> 0.046854129 | I18: {=SUM(IF(data!A2:A200=">60 years",IF(data!B2:B200=">70%",IF(data!C2:C200="Very Severe (>50%)",data!D2:D200,0),0),0))} -> 27013.774 | J18: =I18/($K$20+$M$20) -> 0.09152108 | K18: =SUM(C18,E18,G18,I18) -> 72646.469 | L18: =K18/($K$20+$M$20) -> 0.24612197 | M18: {=SUM(IF(data!A2:A200=">60 years",IF(data!B2:B200=">70%",IF(data!C2:C200="No Attack",data!D2:D200,0),0),0))} -> 52224.914 | N18: =M18/($K$20+$M$20) -> 0.17693494
A20: Total | C20: =SUM(C11:C18) -> 32725.193 | D20: =C20/($K$20+$M$20) -> 0.11087103 | E20: =SUM(E11:E18) -> 33891.729 | F20: =E20/($K$20+$M$20) -> 0.11482319 | G20: =SUM(G11:G18) -> 26241.9 | H20: =G20/($K$20+$M$20) -> 0.088906016 | I20: =SUM(I11:I18) -> 49645.357 | J20: =I20/($K$20+$M$20) -> 0.16819555 | K20: =SUM(K11:K18) -> 142504.18 | L20: =SUM(L11:L18) -> 0.48279579 | M20: =SUM(M11:M18) -> 152660.32 | N20: =SUM(N11:N18) -> 0.51720421

Sheet data
A1: Age Class | B1: Pine Density | C1: MPB Attack Severity | D1: Sum Of area_ha
A2: <21 years | B2: >70% | C2: Light (<11%) | D2: 238.66902
A3: <21 years | B3: >70% | C3: Light (<11%) | D3: 175.42654
A4: <21 years | B4: >70% | C4: Light (<11%) | D4: 43.064608
A5: <21 years | B5: >70% | C5: Moderate (11-30%) | D5: 117.46517
A6: <21 years | B6: >70% | C6: Moderate (11-30%) | D6: 51.641651
A7: <21 years | B7: >70% | C7: No Attack | D7: 1242.2928
A8: <21 years | B8: >70% | C8: No Attack | D8: 129.78628
A9: <21 years | B9: >70% | C9: No Attack | D9: 63.209946
A10: <21 years | B10: >70% | C10: No Attack | D10: 0.00072100885
A11: <21 years | B11: >70% | C11: Severe (31-50%) | D11: 17.321047
A12: <21 years | B12: >70% | C12: Severe (31-50%) | D12: 19.64984
A13: <21 years | B13: >70% | C13: Very Severe (>50%) | D13: 8.4758697
... A118: 41-60 years | B118: 30-70% | C118: Very Severe (>50%) | D118: 76.816737

Sheet Sheet3
